BEGIN:VCALENDAR
VERSION:2.0
PRODID:-//Daughters of St. Paul - ECPv6.15.20//NONSGML v1.0//EN
CALSCALE:GREGORIAN
METHOD:PUBLISH
X-ORIGINAL-URL:https://daughtersofstpaul.com
X-WR-CALDESC:Events for Daughters of St. Paul
REFRESH-INTERVAL;VALUE=DURATION:PT1H
X-Robots-Tag:noindex
X-PUBLISHED-TTL:PT1H
BEGIN:VTIMEZONE
TZID:America/New_York
BEGIN:DAYLIGHT
TZOFFSETFROM:-0500
TZOFFSETTO:-0400
TZNAME:EDT
DTSTART:20230312T070000
END:DAYLIGHT
BEGIN:STANDARD
TZOFFSETFROM:-0400
TZOFFSETTO:-0500
TZNAME:EST
DTSTART:20231105T060000
END:STANDARD
BEGIN:DAYLIGHT
TZOFFSETFROM:-0500
TZOFFSETTO:-0400
TZNAME:EDT
DTSTART:20240310T070000
END:DAYLIGHT
BEGIN:STANDARD
TZOFFSETFROM:-0400
TZOFFSETTO:-0500
TZNAME:EST
DTSTART:20241103T060000
END:STANDARD
BEGIN:DAYLIGHT
TZOFFSETFROM:-0500
TZOFFSETTO:-0400
TZNAME:EDT
DTSTART:20250309T070000
END:DAYLIGHT
BEGIN:STANDARD
TZOFFSETFROM:-0400
TZOFFSETTO:-0500
TZNAME:EST
DTSTART:20251102T060000
END:STANDARD
END:VTIMEZONE
BEGIN:VEVENT
DTSTART;TZID=America/New_York:20241002T193000
DTEND;TZID=America/New_York:20241002T203000
DTSTAMP:20260423T084939
CREATED:20240805T035318Z
LAST-MODIFIED:20250521T214434Z
UID:10000099-1727897400-1727901000@daughtersofstpaul.com
SUMMARY:Coops Unite for Fellowship 1st Wednesday of the month (Online)
DESCRIPTION:Coops Unite Meetings (Pauline Prayer and Fellowship) are on the first Wednesdays of the month at 7:30pm (Eastern time). These meetings are held via Zoom videoconference where Cooperators can join in via video or audio by calling in. They are great opportunities to pray\, study\, share and fellowship with each other from different parts of the US\, Canada\, and the world! Hope to see you there. \nFor more info\, please contact Sr Jackie Jean-Marie Gitonga\, FSP at cooperators@paulinemedia.com
URL:https://daughtersofstpaul.com/event/pauline-cooperators-unite-for-fellowship-1st-wednesday-of-the-month-online/2024-10-02/
CATEGORIES:Cooperator Events
LOCATION:
END:VEVENT
BEGIN:VEVENT
DTSTART;TZID=America/New_York:20241002T193000
DTEND;TZID=America/New_York:20241002T203000
DTSTAMP:20260423T084939
CREATED:20240904T171659Z
LAST-MODIFIED:20240904T171659Z
UID:10000442-1727897400-1727901000@daughtersofstpaul.com
SUMMARY:Coops Unite for Fellowship (Online)
DESCRIPTION:Pauline Coop Unite Meetings (Pauline Prayer and Fellowship) are on the first Wednesdays of the month at 7:30pm (Eastern time). These meetings are held via Zoom videoconference where Cooperators can join in via video or audio by calling in. They are great opportunities to pray\, study\, share and fellowship with each other from different parts of the US\, Canada\, and the world! Hope to see you there. \nTime: 7:30pm (ET) – 8:30pm (ET) \nRegistration: FREE \nFor more info and to receive Zoom link\, please contact Sr Jackie Jean-Marie Gitonga\, FSP at cooperators@paulinemedia.com
URL:https://daughtersofstpaul.com/event/coops-unite-for-fellowship-online/
CATEGORIES:Cooperator Events
LOCATION:
END:VEVENT
BEGIN:VEVENT
DTSTART;TZID=America/New_York:20241007T190000
DTEND;TZID=America/New_York:20241007T200000
DTSTAMP:20260423T084939
CREATED:20240805T045017Z
LAST-MODIFIED:20240817T205922Z
UID:10000093-1728327600-1728331200@daughtersofstpaul.com
SUMMARY:Alberione Book Club - Mary Mother of Apostles
DESCRIPTION:Our Alberione Book Club where we will begin reading “Mary Mother of Apostles” by Fr Giuseppe Forlai\, IGS on Monday\, August 19 at 7:30pm (ET). This book club runs for 12 weeks and ends on November 4\, 2024.\n\nTo register for the Alberione Book club and Workbook\, please go to “Pauline Coop Events” tab using this link: https://www.flipcause.com/secure/cause_pdetails/NDA2ODU=\n\nThe Zoom meeting link and workbook will be sent to you after you register. \n\nOur book club facilitators will be:\nSr Margaret Charles Kerry\, FSP\nSr Jackie Jean-Marie Gitonga\, FSP\n\nWe are looking forward to a grace filled time of learning\, prayer and fellowship as we grow in our relationship with Mary our Mother and learn from her how to “give Jesus” to our world today.\n\nPlease let us know if you have any questions at cooperators@paulinemedia.com or 617-522-4484. See you there! God bless you. \nMary Mother of Apostles Book Club
URL:https://daughtersofstpaul.com/event/mary-mother-of-apostles-book-study-online-2/2024-10-07/
CATEGORIES:Cooperator Events
LOCATION:
END:VEVENT
BEGIN:VEVENT
DTSTART;TZID=America/New_York:20241007T193000
DTEND;TZID=America/New_York:20241007T203000
DTSTAMP:20260423T084939
CREATED:20240904T172532Z
LAST-MODIFIED:20240904T201343Z
UID:10000444-1728329400-1728333000@daughtersofstpaul.com
SUMMARY:Alberione Book Club - Mary Mother of Apostles
DESCRIPTION:Our Alberione Book Club will continue reading Mary Mother of Apostles by Fr Giuseppe Forlai\, IGS on Monday\, October 7th at 7:30pm (ET). We will be drawing our opening and closing prayers from Live Christ\, Give Christ. This book club runs for 12 weeks and ends on November 4\, 2024.\n\nTo register for the Alberione Book club and Workbook\, please go to “Pauline Coop Events” tab using this link: https://www.flipcause.com/secure/cause_pdetails/NDA2ODU= The Zoom meeting link and workbook will be sent to you after you register. \n\n\n\nOur book club facilitators will be:\nSr Margaret Charles Kerry\, FSP\nSr Jackie Jean-Marie Gitonga\, FSP\n\n\nWe are looking forward to a grace filled time of learning\, prayer and fellowship as we grow in our relationship with Mary our Mother and learn from her how to “give Jesus” to our world today.\n\nPlease let us know if you have any questions at cooperators@paulinemedia.com or 617-522-4484. See you there! God bless you.
URL:https://daughtersofstpaul.com/event/alberione-book-club-mary-mother-of-apostles-5/
CATEGORIES:Cooperator Events
ATTACH;FMTTYPE=image/jpeg:https://daughtersofstpaul.com/wp-content/uploads/2024/08/FB-Book-club-FINAL-e1725480377649.jpg
LOCATION:
END:VEVENT
BEGIN:VEVENT
DTSTART;TZID=America/New_York:20241014T190000
DTEND;TZID=America/New_York:20241014T200000
DTSTAMP:20260423T084939
CREATED:20240805T045017Z
LAST-MODIFIED:20240817T205922Z
UID:10000094-1728932400-1728936000@daughtersofstpaul.com
SUMMARY:Alberione Book Club - Mary Mother of Apostles
DESCRIPTION:Our Alberione Book Club where we will begin reading “Mary Mother of Apostles” by Fr Giuseppe Forlai\, IGS on Monday\, August 19 at 7:30pm (ET). This book club runs for 12 weeks and ends on November 4\, 2024.\n\nTo register for the Alberione Book club and Workbook\, please go to “Pauline Coop Events” tab using this link: https://www.flipcause.com/secure/cause_pdetails/NDA2ODU=\n\nThe Zoom meeting link and workbook will be sent to you after you register. \n\nOur book club facilitators will be:\nSr Margaret Charles Kerry\, FSP\nSr Jackie Jean-Marie Gitonga\, FSP\n\nWe are looking forward to a grace filled time of learning\, prayer and fellowship as we grow in our relationship with Mary our Mother and learn from her how to “give Jesus” to our world today.\n\nPlease let us know if you have any questions at cooperators@paulinemedia.com or 617-522-4484. See you there! God bless you. \nMary Mother of Apostles Book Club
URL:https://daughtersofstpaul.com/event/mary-mother-of-apostles-book-study-online-2/2024-10-14/
CATEGORIES:Cooperator Events
LOCATION:
END:VEVENT
BEGIN:VEVENT
DTSTART;TZID=America/New_York:20241014T193000
DTEND;TZID=America/New_York:20241014T203000
DTSTAMP:20260423T084939
CREATED:20240904T172708Z
LAST-MODIFIED:20240904T200740Z
UID:10000445-1728934200-1728937800@daughtersofstpaul.com
SUMMARY:Alberione Book Club - Mary Mother of Apostles
DESCRIPTION:Our Alberione Book Club will continue reading Mary Mother of Apostles by Fr Giuseppe Forlai\, IGS on Monday\, October 14th at 7:30pm (ET). We will be drawing our opening and closing prayers from Live Christ\, Give Christ. This book club runs for 12 weeks and ends on November 4\, 2024.\n\nTo register for the Alberione Book club and Workbook\, please go to “Pauline Coop Events” tab using this link: https://www.flipcause.com/secure/cause_pdetails/NDA2ODU= The Zoom meeting link and workbook will be sent to you after you register. \n\n\n\nOur book club facilitators will be:\nSr Margaret Charles Kerry\, FSP\nSr Jackie Jean-Marie Gitonga\, FSP\n\n\nWe are looking forward to a grace filled time of learning\, prayer and fellowship as we grow in our relationship with Mary our Mother and learn from her how to “give Jesus” to our world today.\n\nPlease let us know if you have any questions at cooperators@paulinemedia.com or 617-522-4484. See you there! God bless you.
URL:https://daughtersofstpaul.com/event/alberione-book-club-mary-mother-of-apostles-6/
CATEGORIES:Cooperator Events
ATTACH;FMTTYPE=image/jpeg:https://daughtersofstpaul.com/wp-content/uploads/2024/08/FB-Book-club-FINAL-e1725480377649.jpg
LOCATION:
END:VEVENT
BEGIN:VEVENT
DTSTART;TZID=America/New_York:20241021T190000
DTEND;TZID=America/New_York:20241021T200000
DTSTAMP:20260423T084939
CREATED:20240805T045017Z
LAST-MODIFIED:20240817T205922Z
UID:10000095-1729537200-1729540800@daughtersofstpaul.com
SUMMARY:Alberione Book Club - Mary Mother of Apostles
DESCRIPTION:Our Alberione Book Club where we will begin reading “Mary Mother of Apostles” by Fr Giuseppe Forlai\, IGS on Monday\, August 19 at 7:30pm (ET). This book club runs for 12 weeks and ends on November 4\, 2024.\n\nTo register for the Alberione Book club and Workbook\, please go to “Pauline Coop Events” tab using this link: https://www.flipcause.com/secure/cause_pdetails/NDA2ODU=\n\nThe Zoom meeting link and workbook will be sent to you after you register. \n\nOur book club facilitators will be:\nSr Margaret Charles Kerry\, FSP\nSr Jackie Jean-Marie Gitonga\, FSP\n\nWe are looking forward to a grace filled time of learning\, prayer and fellowship as we grow in our relationship with Mary our Mother and learn from her how to “give Jesus” to our world today.\n\nPlease let us know if you have any questions at cooperators@paulinemedia.com or 617-522-4484. See you there! God bless you. \nMary Mother of Apostles Book Club
URL:https://daughtersofstpaul.com/event/mary-mother-of-apostles-book-study-online-2/2024-10-21/
CATEGORIES:Cooperator Events
LOCATION:
END:VEVENT
BEGIN:VEVENT
DTSTART;TZID=America/New_York:20241021T193000
DTEND;TZID=America/New_York:20241021T203000
DTSTAMP:20260423T084939
CREATED:20240904T172816Z
LAST-MODIFIED:20240904T200627Z
UID:10000446-1729539000-1729542600@daughtersofstpaul.com
SUMMARY:Alberione Book Club - Mary Mother of Apostles
DESCRIPTION:Our Alberione Book Club will continue reading Mary Mother of Apostles by Fr Giuseppe Forlai\, IGS on Monday\, October 21st at 7:30pm (ET). We will be drawing our opening and closing prayers from Live Christ\, Give Christ. This book club runs for 12 weeks and ends on November 4\, 2024.\n\nTo register for the Alberione Book club and Workbook\, please go to “Pauline Coop Events” tab using this link: https://www.flipcause.com/secure/cause_pdetails/NDA2ODU= The Zoom meeting link and workbook will be sent to you after you register. \n\n\n\nOur book club facilitators will be:\nSr Margaret Charles Kerry\, FSP\nSr Jackie Jean-Marie Gitonga\, FSP\n\n\nWe are looking forward to a grace filled time of learning\, prayer and fellowship as we grow in our relationship with Mary our Mother and learn from her how to “give Jesus” to our world today.\n\nPlease let us know if you have any questions at cooperators@paulinemedia.com or 617-522-4484. See you there! God bless you.
URL:https://daughtersofstpaul.com/event/alberione-book-club-mary-mother-of-apostles-7/
CATEGORIES:Cooperator Events
ATTACH;FMTTYPE=image/jpeg:https://daughtersofstpaul.com/wp-content/uploads/2024/08/FB-Book-club-FINAL-e1725480377649.jpg
LOCATION:
END:VEVENT
BEGIN:VEVENT
DTSTART;TZID=America/New_York:20241028T190000
DTEND;TZID=America/New_York:20241028T200000
DTSTAMP:20260423T084939
CREATED:20240805T045017Z
LAST-MODIFIED:20240817T205922Z
UID:10000096-1730142000-1730145600@daughtersofstpaul.com
SUMMARY:Alberione Book Club - Mary Mother of Apostles
DESCRIPTION:Our Alberione Book Club where we will begin reading “Mary Mother of Apostles” by Fr Giuseppe Forlai\, IGS on Monday\, August 19 at 7:30pm (ET). This book club runs for 12 weeks and ends on November 4\, 2024.\n\nTo register for the Alberione Book club and Workbook\, please go to “Pauline Coop Events” tab using this link: https://www.flipcause.com/secure/cause_pdetails/NDA2ODU=\n\nThe Zoom meeting link and workbook will be sent to you after you register. \n\nOur book club facilitators will be:\nSr Margaret Charles Kerry\, FSP\nSr Jackie Jean-Marie Gitonga\, FSP\n\nWe are looking forward to a grace filled time of learning\, prayer and fellowship as we grow in our relationship with Mary our Mother and learn from her how to “give Jesus” to our world today.\n\nPlease let us know if you have any questions at cooperators@paulinemedia.com or 617-522-4484. See you there! God bless you. \nMary Mother of Apostles Book Club
URL:https://daughtersofstpaul.com/event/mary-mother-of-apostles-book-study-online-2/2024-10-28/
CATEGORIES:Cooperator Events
LOCATION:
END:VEVENT
BEGIN:VEVENT
DTSTART;TZID=America/New_York:20241028T193000
DTEND;TZID=America/New_York:20241028T203000
DTSTAMP:20260423T084939
CREATED:20240904T173242Z
LAST-MODIFIED:20240904T200417Z
UID:10000447-1730143800-1730147400@daughtersofstpaul.com
SUMMARY:Alberione Book Club - Mary Mother of Apostles
DESCRIPTION:Our Alberione Book Club will continue reading Mary Mother of Apostles by Fr Giuseppe Forlai\, IGS on Monday\, October 28th at 7:30pm (ET). We will be drawing our opening and closing prayers from Live Christ\, Give Christ. This book club runs for 12 weeks and ends on November 4\, 2024.\n\nTo register for the Alberione Book club and Workbook\, please go to “Pauline Coop Events” tab using this link: https://www.flipcause.com/secure/cause_pdetails/NDA2ODU= The Zoom meeting link and workbook will be sent to you after you register. \n\n\n\nOur book club facilitators will be:\nSr Margaret Charles Kerry\, FSP\nSr Jackie Jean-Marie Gitonga\, FSP\n\n\nWe are looking forward to a grace filled time of learning\, prayer and fellowship as we grow in our relationship with Mary our Mother and learn from her how to “give Jesus” to our world today.\n\nPlease let us know if you have any questions at cooperators@paulinemedia.com or 617-522-4484. See you there! God bless you.
URL:https://daughtersofstpaul.com/event/alberione-book-club-mary-mother-of-apostles-8/
CATEGORIES:Cooperator Events
ATTACH;FMTTYPE=image/jpeg:https://daughtersofstpaul.com/wp-content/uploads/2024/08/FB-Book-club-FINAL-e1725480377649.jpg
LOCATION:
END:VEVENT
END:VCALENDAR