BEGIN:VCALENDAR
VERSION:2.0
PRODID:-//Daughters of St. Paul - ECPv6.15.20//NONSGML v1.0//EN
CALSCALE:GREGORIAN
METHOD:PUBLISH
X-ORIGINAL-URL:https://daughtersofstpaul.com
X-WR-CALDESC:Events for Daughters of St. Paul
REFRESH-INTERVAL;VALUE=DURATION:PT1H
X-Robots-Tag:noindex
X-PUBLISHED-TTL:PT1H
BEGIN:VTIMEZONE
TZID:America/New_York
BEGIN:DAYLIGHT
TZOFFSETFROM:-0500
TZOFFSETTO:-0400
TZNAME:EDT
DTSTART:20230312T070000
END:DAYLIGHT
BEGIN:STANDARD
TZOFFSETFROM:-0400
TZOFFSETTO:-0500
TZNAME:EST
DTSTART:20231105T060000
END:STANDARD
BEGIN:DAYLIGHT
TZOFFSETFROM:-0500
TZOFFSETTO:-0400
TZNAME:EDT
DTSTART:20240310T070000
END:DAYLIGHT
BEGIN:STANDARD
TZOFFSETFROM:-0400
TZOFFSETTO:-0500
TZNAME:EST
DTSTART:20241103T060000
END:STANDARD
BEGIN:DAYLIGHT
TZOFFSETFROM:-0500
TZOFFSETTO:-0400
TZNAME:EDT
DTSTART:20250309T070000
END:DAYLIGHT
BEGIN:STANDARD
TZOFFSETFROM:-0400
TZOFFSETTO:-0500
TZNAME:EST
DTSTART:20251102T060000
END:STANDARD
END:VTIMEZONE
BEGIN:VEVENT
DTSTART;VALUE=DATE:20241108
DTEND;VALUE=DATE:20241111
DTSTAMP:20260423T084838
CREATED:20241106T232230Z
LAST-MODIFIED:20241106T232230Z
UID:10000463-1731024000-1731283199@daughtersofstpaul.com
SUMMARY:Pauline Cooperators Annual Retreat (Toronto)
DESCRIPTION:Pauline Cooperators Toronto Annual Retreat\nJericho House\n10845 Rathfon Rd\, Port Colborne\, ON L3K 5V4
URL:https://daughtersofstpaul.com/event/pauline-cooperators-annual-retreat-toronto/
LOCATION:Jericho House\, 10845 Rathfon Rd\, Port Colborne\, Ontario\, L3K 5V4\, Canada
CATEGORIES:Cooperator Events
END:VEVENT
END:VCALENDAR