BEGIN:VCALENDAR
VERSION:2.0
PRODID:-//Daughters of St. Paul - ECPv6.15.20//NONSGML v1.0//EN
CALSCALE:GREGORIAN
METHOD:PUBLISH
X-WR-CALNAME:Daughters of St. Paul
X-ORIGINAL-URL:https://daughtersofstpaul.com
X-WR-CALDESC:Events for Daughters of St. Paul
REFRESH-INTERVAL;VALUE=DURATION:PT1H
X-Robots-Tag:noindex
X-PUBLISHED-TTL:PT1H
BEGIN:VTIMEZONE
TZID:America/New_York
BEGIN:DAYLIGHT
TZOFFSETFROM:-0500
TZOFFSETTO:-0400
TZNAME:EDT
DTSTART:20230312T070000
END:DAYLIGHT
BEGIN:STANDARD
TZOFFSETFROM:-0400
TZOFFSETTO:-0500
TZNAME:EST
DTSTART:20231105T060000
END:STANDARD
BEGIN:DAYLIGHT
TZOFFSETFROM:-0500
TZOFFSETTO:-0400
TZNAME:EDT
DTSTART:20240310T070000
END:DAYLIGHT
BEGIN:STANDARD
TZOFFSETFROM:-0400
TZOFFSETTO:-0500
TZNAME:EST
DTSTART:20241103T060000
END:STANDARD
BEGIN:DAYLIGHT
TZOFFSETFROM:-0500
TZOFFSETTO:-0400
TZNAME:EDT
DTSTART:20250309T070000
END:DAYLIGHT
BEGIN:STANDARD
TZOFFSETFROM:-0400
TZOFFSETTO:-0500
TZNAME:EST
DTSTART:20251102T060000
END:STANDARD
END:VTIMEZONE
BEGIN:VEVENT
DTSTART;TZID=America/New_York:20241120T190000
DTEND;TZID=America/New_York:20241120T200000
DTSTAMP:20260423T071853
CREATED:20240904T204231Z
LAST-MODIFIED:20240904T204335Z
UID:10000449-1732129200-1732132800@daughtersofstpaul.com
SUMMARY:Coops Unite in Prayer: Livestreamed Hour of Adoration (Online)
DESCRIPTION:We have our Livestreamed Adoration (Pauline Visit) on the third Wednesdays of the month at 7:00pm (Eastern Time). These times of prayer can be accessed using Pauline Cooperator YouTube channel. The Eucharistic Adoration guide is provided in the notes section for each session. See you at the feet of Jesus to love and adore Him! www.youtube.com/paulinecooperator \n  \n 
URL:https://daughtersofstpaul.com/event/coops-unite-in-prayer-livestreamed-hour-of-adoration-online-4/
CATEGORIES:Cooperator Events
LOCATION:www.youtube.com/paulinecooperator
END:VEVENT
END:VCALENDAR