BEGIN:VCALENDAR
VERSION:2.0
PRODID:-//Daughters of St. Paul - ECPv6.15.20//NONSGML v1.0//EN
CALSCALE:GREGORIAN
METHOD:PUBLISH
X-ORIGINAL-URL:https://daughtersofstpaul.com
X-WR-CALDESC:Events for Daughters of St. Paul
REFRESH-INTERVAL;VALUE=DURATION:PT1H
X-Robots-Tag:noindex
X-PUBLISHED-TTL:PT1H
BEGIN:VTIMEZONE
TZID:America/New_York
BEGIN:DAYLIGHT
TZOFFSETFROM:-0500
TZOFFSETTO:-0400
TZNAME:EDT
DTSTART:20240310T070000
END:DAYLIGHT
BEGIN:STANDARD
TZOFFSETFROM:-0400
TZOFFSETTO:-0500
TZNAME:EST
DTSTART:20241103T060000
END:STANDARD
BEGIN:DAYLIGHT
TZOFFSETFROM:-0500
TZOFFSETTO:-0400
TZNAME:EDT
DTSTART:20250309T070000
END:DAYLIGHT
BEGIN:STANDARD
TZOFFSETFROM:-0400
TZOFFSETTO:-0500
TZNAME:EST
DTSTART:20251102T060000
END:STANDARD
BEGIN:DAYLIGHT
TZOFFSETFROM:-0500
TZOFFSETTO:-0400
TZNAME:EDT
DTSTART:20260308T070000
END:DAYLIGHT
BEGIN:STANDARD
TZOFFSETFROM:-0400
TZOFFSETTO:-0500
TZNAME:EST
DTSTART:20261101T060000
END:STANDARD
END:VTIMEZONE
BEGIN:VEVENT
DTSTART;TZID=America/New_York:20251203T193000
DTEND;TZID=America/New_York:20251203T203000
DTSTAMP:20260423T040822
CREATED:20240805T035318Z
LAST-MODIFIED:20250521T214434Z
UID:10000113-1764790200-1764793800@daughtersofstpaul.com
SUMMARY:Coops Unite for Fellowship 1st Wednesday of the month (Online)
DESCRIPTION:Coops Unite Meetings (Pauline Prayer and Fellowship) are on the first Wednesdays of the month at 7:30pm (Eastern time). These meetings are held via Zoom videoconference where Cooperators can join in via video or audio by calling in. They are great opportunities to pray\, study\, share and fellowship with each other from different parts of the US\, Canada\, and the world! Hope to see you there. \nFor more info\, please contact Sr Jackie Jean-Marie Gitonga\, FSP at cooperators@paulinemedia.com
URL:https://daughtersofstpaul.com/event/pauline-cooperators-unite-for-fellowship-1st-wednesday-of-the-month-online/2025-12-03/
CATEGORIES:Cooperator Events
LOCATION:
END:VEVENT
BEGIN:VEVENT
DTSTART;TZID=America/New_York:20251206T103000
DTEND;TZID=America/New_York:20251206T120000
DTSTAMP:20260423T040822
CREATED:20250814T214532Z
LAST-MODIFIED:20250814T214532Z
UID:10000494-1765017000-1765022400@daughtersofstpaul.com
SUMMARY:(Online) Discernment 101
DESCRIPTION:Join us online for a morning of prayer and reflection on God’s will for your life! \nWhen: Saturday\, December 6\, 2025 from 10:30am to 12:00pm Eastern Time \nWhere: Zoom \nWhat: Talk on discernment followed by small group discussion and sharing with the Sisters. Topic for December: “Making an Authentic Gift of Self” \nFor more information and to register: Visit https://connect.pauline.org/discernment-101/ or email Sr Bethany at vocations@paulinemedia.com.
URL:https://daughtersofstpaul.com/event/online-discernment-101-12/
CATEGORIES:Vocation Events
ATTACH;FMTTYPE=image/jpeg:https://daughtersofstpaul.com/wp-content/uploads/2025/06/morgan-winston-DS-aTBx-ywc-unsplash-bible-window-sm.jpg
END:VEVENT
END:VCALENDAR